Workbook

Sheet Standing
B1: Actual variables | F1: Estimated sizes | L1: http://www.energy.gov.za/EEE/Projects/EnergyEfficiencyStandardsAndLabellingForHouseholdAppliances/Status-on-enablingStandards-SANS%20941-and-SANS-151.pdf
B2: Your tank size | C2: =Annual!B5 -> 50 | D2: L | F2: =HLOOKUP(C2,G9:L9,1,TRUE) -> 50 | G2: L closest size | K2: =F6*C5*F3 -> 812.80793 | L2: Watts no insulation
B3: Tank category | C3: =Annual!B6 -> F | F3: =C2/1000*F10 -> 1.5984423 | G3: m2 guess SA | K3: =C4 -> 100.99152 | L3: Watts with insulation
B4: Standing Loss | C4: =VLOOKUP(C3,$B$11:$F$17,5,0) -> 100.99152 | D4: W | F4: =C4/(F3*C5) -> 1.4040269 | G4: Geyser U-value | I4: =1/F4 -> 0.71223708
B5: (standard Td) | C5: =65-20 -> 45 | D5: deg C | I5: =1/F6 -> 0.088495575
B6: (Material) | C6: Mild steel | F6: =VLOOKUP(C6,$C$33:$G$35,5,0) -> 11.3 | G6: Material U-value | I6: =I4/I5 -> 8.0482791
B7: (Insulation) | C7: =C27 -> 0.038 | D7: W/m°C | F7: =F4/F6 -> 0.12425016 | G7: Implied Insulation factor
B8: Standing Losses: S = F + xV0.4 | G8: Example tank sizes:
B9: Category | C9: Variables (Annex E) | F9: =C2 -> 50 | G9: =Sources!M29 -> 25 | H9: =Sources!M30 -> 50 | I9: =Sources!M31 -> 75 | J9: =Sources!$M32 -> 100 | K9: =Sources!$M33 -> 150 | L9: =Sources!$M34 -> 200 | M9: =Sources!$M35 -> 250
F10: =HLOOKUP(F2,G9:L10,2,0) -> 31.968847 | G10: =VLOOKUP(G9,Sources!$M$29:$W$35,11,0) -> 50.667606 | H10: =VLOOKUP(H9,Sources!$M$29:$W$35,11,0) -> 31.968847 | I10: =VLOOKUP(I9,Sources!$M$29:$W$35,11,0) -> 25.099231 | J10: =VLOOKUP(J9,Sources!$M$29:$W$35,11,0) -> 21.287432 | K10: =VLOOKUP(K9,Sources!$M$29:$W$35,11,0) -> 17.123774 | L10: =VLOOKUP(L9,Sources!$M$29:$W$35,11,0) -> 15.485892 | M10: =VLOOKUP(M9,Sources!$M$29:$W$35,11,0) -> 13.642209
B11: A | C11: F | D11: x | E11: ^ | F11: =$C12+$D12*F$9^$E12 -> 24.892132 | G11: =$C12+$D12*G$9^$E12 -> 20.075417 | H11: =$C12+$D12*H$9^$E12 -> 24.892132 | I11: =$C12+$D12*I$9^$E12 -> 28.394719 | J11: =$C12+$D12*J$9^$E12 -> 31.247826 | K11: =$C12+$D12*K$9^$E12 -> 35.869517 | L11: =$C12+$D12*L$9^$E12 -> 39.634213 | M11: =$C12+$D12*M$9^$E12 -> 42.867735
B12: B | C12: 5 | D12: 4.16 | E12: 0.4 | F12: =AVERAGE($C13+$D13*F$9^$E13,$C12+$D12*F$9^$E12) -> 32.889074 | G12: =AVERAGE($C13+$D13*G$9^$E13,$C12+$D12*G$9^$E12) -> 26.862391 | H12: =AVERAGE($C13+$D13*H$9^$E13,$C12+$D12*H$9^$E12) -> 32.889074 | I12: =AVERAGE($C13+$D13*I$9^$E13,$C12+$D12*I$9^$E12) -> 37.271518 | J12: =AVERAGE($C13+$D13*J$9^$E13,$C12+$D12*J$9^$E12) -> 40.84133 | K12: =AVERAGE($C13+$D13*K$9^$E13,$C12+$D12*K$9^$E12) -> 46.623999 | L12: =AVERAGE($C13+$D13*L$9^$E13,$C12+$D12*L$9^$E12) -> 51.334394 | M12: =AVERAGE($C13+$D13*M$9^$E13,$C12+$D12*M$9^$E12) -> 55.380183
B13: C | C13: 11 | D13: 6.25 | E13: 0.4 | F13: =AVERAGE($C14+$D14*F$9^$E14,$C13+$D13*F$9^$E13) -> 48.689049 | G13: =AVERAGE($C14+$D14*G$9^$E14,$C13+$D13*G$9^$E13) -> 40.248219 | H13: =AVERAGE($C14+$D14*H$9^$E14,$C13+$D13*H$9^$E13) -> 48.689049 | I13: =AVERAGE($C14+$D14*I$9^$E14,$C13+$D13*I$9^$E13) -> 54.826996 | J13: =AVERAGE($C14+$D14*J$9^$E14,$C13+$D13*J$9^$E13) -> 59.82679 | K13: =AVERAGE($C14+$D14*K$9^$E14,$C13+$D13*K$9^$E13) -> 67.92586 | L13: =AVERAGE($C14+$D14*L$9^$E14,$C13+$D13*L$9^$E13) -> 74.523129 | M13: =AVERAGE($C14+$D14*M$9^$E14,$C13+$D13*M$9^$E13) -> 80.189565
B14: D | C14: 16.66 | D14: 8.33 | E14: 0.4 | F14: =AVERAGE($C15+$D15*F$9^$E15,$C14+$D14*F$9^$E14) -> 63.443844 | G14: =AVERAGE($C15+$D15*G$9^$E15,$C14+$D14*G$9^$E14) -> 52.640971 | H14: =AVERAGE($C15+$D15*H$9^$E15,$C14+$D14*H$9^$E14) -> 63.443844 | I14: =AVERAGE($C15+$D15*I$9^$E15,$C14+$D14*I$9^$E14) -> 71.299406 | J14: =AVERAGE($C15+$D15*J$9^$E15,$C14+$D14*J$9^$E14) -> 77.69832 | K14: =AVERAGE($C15+$D15*K$9^$E15,$C14+$D14*K$9^$E14) -> 88.063797 | L14: =AVERAGE($C15+$D15*L$9^$E15,$C14+$D14*L$9^$E14) -> 96.507214 | M14: =AVERAGE($C15+$D15*M$9^$E15,$C14+$D14*M$9^$E14) -> 103.75932
B15: E | C15: 21 | D15: 10.33 | E15: 0.4 | F15: =AVERAGE($C16+$D16*F$9^$E16,$C15+$D15*F$9^$E15) -> 80.857241 | G15: =AVERAGE($C16+$D16*G$9^$E16,$C15+$D15*G$9^$E15) -> 66.96866 | H15: =AVERAGE($C16+$D16*H$9^$E16,$C15+$D15*H$9^$E15) -> 80.857241 | I15: =AVERAGE($C16+$D16*I$9^$E16,$C15+$D15*I$9^$E15) -> 90.956648 | J15: =AVERAGE($C16+$D16*J$9^$E16,$C15+$D15*J$9^$E15) -> 99.183333 | K15: =AVERAGE($C16+$D16*K$9^$E16,$C15+$D15*K$9^$E15) -> 112.50958 | L15: =AVERAGE($C16+$D16*L$9^$E16,$C15+$D15*L$9^$E15) -> 123.36476 | M15: =AVERAGE($C16+$D16*M$9^$E16,$C15+$D15*M$9^$E15) -> 132.68834
B16: F | C16: 26 | D16: 13.66 | E16: 0.4 | F16: =AVERAGE($C17+$D17*F$9^$E17,$C16+$D16*F$9^$E16) -> 100.99152 | G16: =AVERAGE($C17+$D17*G$9^$E17,$C16+$D16*G$9^$E16) -> 83.438299 | H16: =AVERAGE($C17+$D17*H$9^$E17,$C16+$D16*H$9^$E16) -> 100.99152 | I16: =AVERAGE($C17+$D17*I$9^$E17,$C16+$D16*I$9^$E16) -> 113.75576 | J16: =AVERAGE($C17+$D17*J$9^$E17,$C16+$D16*J$9^$E16) -> 124.15313 | K16: =AVERAGE($C17+$D17*K$9^$E17,$C16+$D16*K$9^$E16) -> 140.99564 | L16: =AVERAGE($C17+$D17*L$9^$E17,$C16+$D16*L$9^$E16) -> 154.71507 | M16: =AVERAGE($C17+$D17*M$9^$E17,$C16+$D16*M$9^$E16) -> 166.49877
B17: G | C17: 31 | D17: 16.66 | E17: 0.4 | F17: =$C17+$D17*F$9^$E17 -> 110.66416 | G17: =$C17+$D17*G$9^$E17 -> 91.374146 | H17: =$C17+$D17*H$9^$E17 -> 110.66416 | I17: =$C17+$D17*I$9^$E17 -> 124.69135 | J17: =$C17+$D17*J$9^$E17 -> 136.11749 | K17: =$C17+$D17*K$9^$E17 -> 154.62648 | L17: =$C17+$D17*L$9^$E17 -> 169.70336 | M17: =$C17+$D17*M$9^$E17 -> 182.653
B18: Worst allowable solar/joint | F18: =HLOOKUP(F2,G9:M18,10,0) -> 90 | G18: =(G19*1000)/24 -> 67.5 | H18: =(H19*1000)/24 -> 90 | I18: =(I19*1000)/24 -> 103.33333 | J18: =(J19*1000)/24 -> 117.08333 | K18: =(K19*1000)/24 -> 135 | L18: =(L19*1000)/24 -> 152.91667 | M18: =(M19*1000)/24 -> 170.83333
C19: (kWH/24hours) | E19: 24 | G19: 1.62 | H19: 2.16 | I19: 2.48 | J19: 2.81 | K19: 3.24 | L19: 3.67 | M19: 4.1
B20: Assuming standard sizes:
B21: Standard Temp difference | K21: http://www.spiraxsarco.com/resources/steam-engineering-tutorials/steam-engineering-principles-and-heat-transfer/energy-consumption-of-tanks-and-vats.asp
B22: Out | C22: Inside | D22: Diff | F22: Top | G22: Sides | H22: Base | I22: W
B23: 20 | C23: 70 | D23: =C23-B23 -> 50 | F23: 15 | G23: 12 | H23: 7.5 | I23: =C4 -> 100.99152 | U23: https://law.resource.org/pub/za/ibr/za.sans.151.2010.pdf
B25: 25 | C25: 0.2
B26: 50 | C26: 0.1
B27: Typical insulation | C27: 0.038 | D27: W/m°C
B30: http://www.engineeringtoolbox.com/overall-heat-transfer-coefficients-d_284.html
B31: Fluid | C31: Transmission Surface | D31: Fluid | E31: Overall Heat Transmission Coefficient
E32: (Btu/ft2 hr oF) | G32: (W/m2 K)
B33: Water | C33: Cast Iron | D33: Air or Gas | E33: 1.4 | G33: 7.9
B34: Water | C34: Mild Steel | D34: Air or Gas | E34: 2 | G34: 11.3 | I34: =G34*F3*C5 -> 812.80793 | L34: Fig. 2.9.1
B35: Water | C35: Copper | D35: Air or Gas | E35: 2.3 | G35: 13.1 | L35: Typical overall heat transfer coefficients
B36: Water | C36: Cast Iron | D36: Water | E36: 40 - 50 | G36: 230 - 280 | L36: from flat steel surfaces
B37: Water | C37: Mild Steel | D37: Water | E37: 60 - 70 | G37: 340 - 400 | K37: For 25 mm of insulation, the U value should be multiplied by a factor of 0.2.
B38: Water | C38: Copper | D38: Water | E38: 60 - 80 | G38: 340 - 455 | K38: For 50 mm of insulation, the U value should be multiplied by a factor of 0.1.
B39: Air | C39: Cast Iron | D39: Air | E39: 1 | G39: 5.7 | K39: http://www.bre.co.uk/filelibrary/pdf/rpts/BR_443_(2006_Edition).pdf | U39: =C4*24*60*60/1000 -> 8725.6673 | X39: 45 | Y39: X | Z39: =W40 -> 2.4237965 | AC39: Per 24 hours
B40: Air | C40: Mild Steel | D40: Air | E40: 1.4 | G40: 7.9 | K40: Mild steel (including galvanised steel) 50 W/m·K | U40: =C4 -> 100.99152 | V40: =U40*24*60*60 -> 8725667.3 | W40: =V40/1000/60/60 -> 2.4237965 | X40: 2 | Y40: 65 | Z40: - | AA40: 20 | AC40: =(X39*Z39)/(X40*(Y40-AA40)) -> 1.2118982
B41: Steam | C41: Cast Iron | D41: Air | E41: 2 | G41: 11.3 | K41: Stainless steel 17 W/m·K
B42: Steam | C42: Mild Steel | D42: Air | E42: 2.5 | G42: 14.2 | K42: Aluminium (typical alloy) 160 W/m·K
B43: Steam | C43: Copper | D43: Air | E43: 3 | G43: 17
...

Sheet Annual
I2: Water | J2: 65 | K2: 65 | L2: 65
A3: Water high temp | B3: 60 | C3: °C | I3: Ambient | J3: 23 | K3: 20 | L3: 17
A4: Outside Temp | B4: 20 | C4: °C | I4: dT | J4: =J2-J3 -> 42 | K4: =K2-K3 -> 45 | L4: =L2-L3 -> 48
A5: Size | B5: 50 | C5: L | D5: =B15*B5*(B3-B4)/3600 -> 2.3333333 | E5: kWh | F5: Category | G5: Standing losses | J5: U-value estimate
A6: Category | B6: F | D6: =D5*1000/100 -> 23.333333 | G6: W lost | H6: kWH/yr | I6: R/year | J6: min | K6: ave | L6: max
A7: Standing losses | B7: =Standing!C4 -> 100.99152 | C7: W | E7: (max) | F7: A | G7: =Standing!F11 -> 24.892132 | H7: =G7*$B$10*$B$11/1000 -> 0.59741117 | I7: =H7*$B$8 -> 0.95585787 | J7: =$G7/$B$9/J$4 -> 0.3707796 | K7: =$G7/$B$9/K$4 -> 0.34606096 | L7: =$G7/$B$9/L$4 -> 0.32443215
A8: Electricity Cost | B8: 1.6 | C8: R/kWH | F8: B | G8: =Standing!F12 -> 32.889074 | H8: =G8*$B$10*$B$11/1000 -> 0.78933777 | I8: =H8*$B$8 -> 1.2629404 | J8: =$G8/$B$9/J$4 -> 0.48989767 | K8: =$G8/$B$9/K$4 -> 0.45723783 | L8: =$G8/$B$9/L$4 -> 0.42866046
A9: Est Surface area | B9: =Standing!F3 -> 1.5984423 | C9: m² | F9: C | G9: =Standing!F13 -> 48.689049 | H9: =G9*$B$10*$B$11/1000 -> 1.1685372 | I9: =H9*$B$8 -> 1.8696595 | J9: =$G9/$B$9/J$4 -> 0.72524547 | K9: =$G9/$B$9/K$4 -> 0.67689577 | L9: =$G9/$B$9/L$4 -> 0.63458978
A10: Hours per day | B10: 24 | C10: hours | F10: D | G10: =Standing!F14 -> 63.443844 | H10: =G10*$B$10*$B$11/1000 -> 1.5226523 | I10: =H10*$B$8 -> 2.4362436 | J10: =$G10/$B$9/J$4 -> 0.94502484 | K10: =$G10/$B$9/K$4 -> 0.88202318 | L10: =$G10/$B$9/L$4 -> 0.82689673
A11: Days per year | B11: 1 | C11: days | F11: E | G11: =Standing!F15 -> 80.857241 | H11: =G11*$B$10*$B$11/1000 -> 1.9405738 | I11: =H11*$B$8 -> 3.1049181 | J11: =$G11/$B$9/J$4 -> 1.2044053 | K11: =$G11/$B$9/K$4 -> 1.1241116 | L11: =$G11/$B$9/L$4 -> 1.0538546
A12: Standing loss | B12: =B7*B10*B11/1000 -> 2.4237965 | C12: kWH/yr | F12: F | G12: =Standing!F16 -> 100.99152 | H12: =G12*$B$10*$B$11/1000 -> 2.4237965 | I12: =H12*$B$8 -> 3.8780743 | J12: =$G12/$B$9/J$4 -> 1.5043145 | K12: =$G12/$B$9/K$4 -> 1.4040269 | L12: =$G12/$B$9/L$4 -> 1.3162752
A13: Cost of loss | B13: =B12*B8 -> 3.8780743 | C13: R/year | F13: G | G13: =Standing!F17 -> 110.66416 | H13: =G13*$B$10*$B$11/1000 -> 2.6559399 | I13: =H13*$B$8 -> 4.2495039 | J13: =$G13/$B$9/J$4 -> 1.6483929 | K13: =$G13/$B$9/K$4 -> 1.5385001 | L13: =$G13/$B$9/L$4 -> 1.4423438
A14: Implied U-value | B14: =Standing!F4 -> 1.4040269 | C14: W/m²°C | E14: (min) | F14: solar/jnt | G14: =Standing!F18 -> 90 | H14: =G14*$B$10*$B$11/1000 -> 2.16 | I14: =H14*$B$8 -> 3.456 | J14: =$G14/$B$9/J$4 -> 1.3405908 | K14: =$G14/$B$9/K$4 -> 1.2512181 | L14: =$G14/$B$9/L$4 -> 1.173017
A15: Spec Ht Cap Water | B15: 4.2 | C15: KJ/kg°C
A16: Heat diff | B16: =B3-B4 -> 40 | C16: °C | E16: 10 | H16: 4.2 | I16: KJ/kg°C
A17: Heat energy full | B17: =B15*B16*B5 -> 8400 | C17: KJ | D17: 55 | E17: =D17-E16 -> 45 | F17: dT
A18: Kwh | D18: 100 | E18: =D18 -> 100 | F18: L | L18: =60*60 -> 3600 | N18: KJ/KWH | O18: =L23 -> 2555 | P18: 50 | Q18: 70 | R18: 100 | S18: 110 | T18: =S18+10 -> 120 | U18: =T18+10 -> 130 | V18: 130
L19: 150 | N19: L | O19: 35 | P19: 745.20833 | Q19: 1043.2917 | R19: 1490.4167 | S19: 1639.4583 | T19: 1788.5 | U19: 1937.5417 | V19: 1937.5417
B20: Before HB | D20: After HB | L20: =B16 -> 40 | N20: dt | O20: =O19+5 -> 40 | P20: 851.66667 | Q20: 1192.3333 | R20: 1703.3333 | S20: 1873.6667 | T20: 2044 | U20: 2214.3333 | V20: 2214.3333
A21: Hours off | B21: Stand | C21: Use | D21: Stand | E21: Use | F21: StandSave | G21: Use Save | L21: =L20*L19*H16 -> 25200 | N21: KJ/day | O21: =O20+5 -> 45 | P21: 958.125 | Q21: 1341.375 | R21: 1916.25 | S21: 2107.875 | T21: 2299.5 | U21: 2491.125 | V21: 2491.125
A22: 22 | B22: =$B$12 -> 2.4237965 | C22: =HLOOKUP($D$18,$O$18:$V$23,MATCH($D$17,$O$18:$O$23,0),0) -> 2342.0833 | D22: =(1-F22)*$B$12 -> #REF! | E22: =HLOOKUP($E$18,$O$18:$V$23,MATCH($E$17,$O$18:$O$23,0),0) -> 1916.25 | F22: =#REF! -> #REF! | G22: =1-E22/C22 -> 0.18181818 | H22: =1-SUM(D22:E22)/SUM(B22:C22) -> #REF! | L22: =L21/L18 -> 7 | N22: kWH/day | O22: =O21+5 -> 50 | P22: 1064.5833 | Q22: 1490.4167 | R22: 2129.1667 | S22: 2342.0833 | T22: 2555 | U22: 2767.9167 | V22: 2767.9167
L23: =L22*365 -> 2555 | N23: KWH/yr | O23: =O22+5 -> 55 | P23: 1171.0417 | Q23: 1639.4583 | R23: 2342.0833 | S23: 2576.2917 | T23: 2810.5 | U23: 3044.7083 | V23: 3044.7083
A24: 12 | B24: 1235.1218 | C24: 2342.0833 | D24: 1111.7071 | E24: 1916.25 | G24: =SUM(D24:E24) -> 3027.9571 | H24: No control | I24: =SUM(B22:C22) -> 2344.5071
A25: 16 | B25: 1235.1218 | C25: 2342.0833 | D25: 1074.1443 | E25: 1916.25 | G25: =SUM(D25:E25) -> 2990.3943 | H25: Timer | I25: =SUM(D22,C22) -> #REF!
E26: R/month on geyser!? | H26: HB | I26: =SUM(D22:E22) -> #REF!
B27: =SUM(B22:C22) -> 2344.5071 | C27: =SUM(D22:E22) -> #REF! | E27: =B27/12*1.6 -> 312.60095 | F27: =C27/12*1.6 -> #REF!
R28: 0.18403739
F30: Litres used per day | M30: Geyser size (L)
D31: Top Temp chg | E31: =H22 -> #REF! | F31: 50 | G31: 70 | H31: 100 | I31: 130 | L31: =H22 -> #REF! | M31: 50 | N31: 100 | O31: 150
E32: 0 | F32: #REF! | G32: #REF! | H32: #REF! | I32: #REF! | K32: Geyser Cat | L32: A | M32: #REF! | N32: #REF! | O32: #REF!
E33: 5 | F33: #REF! | G33: #REF! | H33: #REF! | I33: #REF! | L33: C | M33: #REF! | N33: #REF! | O33: #REF!
E34: 10 | F34: #REF! | G34: #REF! | H34: #REF! | I34: #REF! | L34: F | M34: #REF! | N34: #REF! | O34: #REF!
E35: 15 | F35: #REF! | G35: #REF! | H35: #REF! | I35: #REF! | L35: G | M35: #REF! | N35: #REF! | O35: #REF!
E36: 20 | F36: #REF! | G36: #REF! | H36: #REF! | I36: #REF! | L36: (dt of 10, 100L per day used)
E37: (150L, Category F geyser)

Sheet Sources
A2: Daily Analysis | H2: http://www.geysers.co.za/geysers.htm
B3: Size of geyser | E3: Standard sizes | H3: 50 | I3: 75 | J3: 100 | K3: 150 | L3: 200 | M3: 250
E4: http://www.pow-a-mate.co.za/FAQ.html
E5: 50 | F5: L per person
E6: 50 | F6: L '+ standard
E7: 3 | F7: People
E8: =E7*E5+$E$6 -> 200 | F8: Total required
B10: Temperature: | E10: 70 | F10: C - common setting
E11: 60 | F11: C - 'efficient' setting
E12: 55 | F12: Super efficient?
H15: http://www.geysers.co.za/geyser_maintenance.htm#tray
H16: 100 kPa = 15 litres / minute. (combined flow) | K16: 200 kPa = 22 litres / minute. (combined flow) | O16: 400 kPa = 34 litres / minute. (combined flow)
B17: How much water do I use? | H17: http://fi.edu/guide/schutte/howmuch.html
H18: http://wiki.answers.com/Q/How_many_gallons_of_water_per_minute_does_the_average_shower_use
H19: http://askville.amazon.com/gallons-water-average-10-minute-shower/AnswerViewer.do?requestId=2548818
B23: Standing losses - SANS151 ed7 Annex E…
C24: SA numbers | H24: http://www.energy.gov.za/EEE/Projects/EnergyEfficiencyStandardsAndLabellingForHouseholdAppliances/Status-on-enablingStandards-SANS%20941-and-SANS-151.pdf
C25: European numbers -- similar shows W! | H25: http://ec.europa.eu/energy/intelligent/files/faqs/06_energy_labelling_water_heater-c_2013_818.pdf
A27: 7.84 | B27: Geyser shapes/sizes : geysers.co.za | M27: http://www.geysers.co.za/geysers.htm | S27: h | T27: R
A28: 1.5 | B28: Capacity | C28: A (rad) | D28: B (height) | E28: Mass | F28: Element Rating | G28: Mininmum Allow for Element Withdrawl | H28: h | I28: r | J28: External tank vol | K28: Surface (m2) | L28: Cap/Area | M28: LITRE | N28: Rad | O28: Height | P28: KG | Q28: KW | R28: MM | S28: 1 | T28: 1 | U28: External tank vol (L) | V28: Surface area (m2) | W28: Cap/Area
B29: LITRE | C29: MM | D29: MM | E29: KG | F29: KW | G29: MM | H29: 1 | I29: 1 | M29: 25 | N29: 480 | O29: 600 | P29: 14 | Q29: 1 | R29: 250 | S29: =O29/1000*S$28 -> 0.6 | T29: =N29/1000/2*T$28 -> 0.24 | U29: =PI()*(T29*T29)*S29*1000 -> 108.57344 | V29: =PI()*T29*2*S29+PI()*T29^2*2 -> 1.2666902 | W29: =V29/M29*1000 -> 50.667606
B30: 50 | C30: 480 | D30: 820 | E30: 19 | F30: 1 | G30: 250 | H30: =D30/1000*H$29 -> 0.82 | I30: =C30/1000/2*I$29 -> 0.24 | J30: =PI()*(I30*I30)*H30*1000 -> 148.3837 | K30: =PI()*I30*2*H30+PI()*I30^2*2 -> 1.5984423 | L30: =K30/B30*1000 -> 31.968847 | M30: 50 | N30: 480 | O30: 820 | P30: 19 | Q30: 1 | R30: 250 | S30: =O30/1000*S$28 -> 0.82 | T30: =N30/1000/2*T$28 -> 0.24 | U30: =PI()*(T30*T30)*S30*1000 -> 148.3837 | V30: =PI()*T30*2*S30+PI()*T30^2*2 -> 1.5984423 | W30: =V30/M30*1000 -> 31.968847
B31: 75 | C31: 560 | D31: 720 | E31: 22 | F31: 2 | G31: 330 | H31: =D31/1000*H$29 -> 0.72 | I31: =C31/1000/2*I$29 -> 0.28 | J31: =PI()*(I31*I31)*H31*1000 -> 177.33662 | K31: =PI()*I31*2*H31+PI()*I31^2*2 -> 1.7592919 | L31: =K31/B31*1000 -> 23.457225 | M31: 75 | N31: 560 | O31: 790 | P31: 22 | Q31: 2 | R31: 330 | S31: =O31/1000*S$28 -> 0.79 | T31: =N31/1000/2*T$28 -> 0.28 | U31: =PI()*(T31*T31)*S31*1000 -> 194.57768 | V31: =PI()*T31*2*S31+PI()*T31^2*2 -> 1.8824423 | W31: =V31/M31*1000 -> 25.099231
B32: 100 | C32: 560 | D32: 930 | E32: 25 | F32: 2 | G32: 330 | H32: =D32/1000*H$29 -> 0.93 | I32: =C32/1000/2*I$29 -> 0.28 | J32: =PI()*(I32*I32)*H32*1000 -> 229.0598 | K32: =PI()*I32*2*H32+PI()*I32^2*2 -> 2.1287432 | L32: =K32/B32*1000 -> 21.287432 | M32: 100 | N32: 560 | O32: 930 | P32: 25 | Q32: 2 | R32: 330 | S32: =O32/1000*S$28 -> 0.93 | T32: =N32/1000/2*T$28 -> 0.28 | U32: =PI()*(T32*T32)*S32*1000 -> 229.0598 | V32: =PI()*T32*2*S32+PI()*T32^2*2 -> 2.1287432 | W32: =V32/M32*1000 -> 21.287432
B33: 150 | C33: 560 | D33: 1180 | E33: 32 | F33: 3 | G33: 400 | H33: =D33/1000*H$29 -> 1.18 | I33: =C33/1000/2*I$29 -> 0.28 | J33: =PI()*(I33*I33)*H33*1000 -> 290.63502 | K33: =PI()*I33*2*H33+PI()*I33^2*2 -> 2.5685662 | L33: =K33/B33*1000 -> 17.123774 | M33: 150 | N33: 560 | O33: 1180 | P33: 32 | Q33: 3 | R33: 400 | S33: =O33/1000*S$28 -> 1.18 | T33: =N33/1000/2*T$28 -> 0.28 | U33: =PI()*(T33*T33)*S33*1000 -> 290.63502 | V33: =PI()*T33*2*S33+PI()*T33^2*2 -> 2.5685662 | W33: =V33/M33*1000 -> 17.123774
B34: Presurised | M34: 200 | N34: 665 | O34: 1150 | P34: 40 | Q34: 4 | R34: 470 | S34: =O34/1000*S$28 -> 1.15 | T34: =N34/1000/2*T$28 -> 0.3325 | U34: =PI()*(T34*T34)*S34*1000 -> 399.42111 | V34: =PI()*T34*2*S34+PI()*T34^2*2 -> 3.0971784 | W34: =V34/M34*1000 -> 15.485892
B35: Capacity | C35: A (rad) | D35: B (height) | E35: Mass | F35: Element Rating | G35: Mininmum Allow for Element Withdrawl | H35: h | I35: r | J35: External tank vol | K35: Surface (m2) | L35: Cap/Area | M35: 250 | N35: 665 | O35: 1300 | P35: 40 | Q35: 4 | R35: 470 | S35: =O35/1000*S$28 -> 1.3 | T35: =N35/1000/2*T$28 -> 0.3325 | U35: =PI()*(T35*T35)*S35*1000 -> 451.51951 | V35: =PI()*T35*2*S35+PI()*T35^2*2 -> 3.4105523 | W35: =V35/M35*1000 -> 13.642209
B36: LITRE | C36: MM | D36: MM | E36: KG | F36: KW | G36: MM | H36: 1 | I36: 1 | M36: 100 | N36: 665 | O36: 860 | P36: 24 | Q36: 3 | R36: 330 | S36: =O36/1000*S$28 -> 0.86 | T36: =N36/1000/2*T$28 -> 0.3325 | U36: =PI()*(T36*T36)*S36*1000 -> 298.69752 | V36: =PI()*T36*2*S36+PI()*T36^2*2 -> 2.4913222 | W36: =V36/M36*1000 -> 24.913222
B37: 25 | C37: 375 | D37: 510 | E37: 11 | F37: 1 | G37: 250 | H37: =D37/1000*H$36 -> 0.51 | I37: =C37/1000/2*I$36 -> 0.1875 | J37: =PI()*(I37*I37)*H37*1000 -> 56.327775 | K37: =PI()*I37*2*H37+PI()*I37^2*2 -> 0.82172283 | L37: =K37/B37*1000 -> 32.868913 | M37: 150 | N37: 665 | O37: 980 | P37: 28 | Q37: 3 | R37: 400 | S37: =O37/1000*S$28 -> 0.98 | T37: =N37/1000/2*T$28 -> 0.3325 | U37: =PI()*(T37*T37)*S37*1000 -> 340.37625 | V37: =PI()*T37*2*S37+PI()*T37^2*2 -> 2.7420213 | W37: =V37/M37*1000 -> 18.280142
B38: 50 | C38: 480 | D38: 635 | E38: 16 | F38: 1 | G38: 250 | H38: =D38/1000*H$36 -> 0.635 | I38: =C38/1000/2*I$36 -> 0.24 | J38: =PI()*(I38*I38)*H38*1000 -> 114.90689 | K38: =PI()*I38*2*H38+PI()*I38^2*2 -> 1.3194689 | L38: =K38/B38*1000 -> 26.389378
B39: 75 | C39: 560 | D39: 650 | E39: 22 | F39: 2 | G39: 330 | H39: =D39/1000*H$36 -> 0.65 | I39: =C39/1000/2*I$36 -> 0.28 | J39: =PI()*(I39*I39)*H39*1000 -> 160.09556 | K39: =PI()*I39*2*H39+PI()*I39^2*2 -> 1.6361415 | L39: =K39/B39*1000 -> 21.815219
B40: 100 | C40: 560 | D40: 770 | E40: 24 | F40: 2 | G40: 330 | H40: =D40/1000*H$36 -> 0.77 | I40: =C40/1000/2*I$36 -> 0.28 | J40: =PI()*(I40*I40)*H40*1000 -> 189.65167 | K40: =PI()*I40*2*H40+PI()*I40^2*2 -> 1.8472565 | L40: =K40/B40*1000 -> 18.472565
B41: 150 | C41: 560 | D41: 1020 | E41: 31 | F41: 3 | G41: 440 | H41: =D41/1000*H$36 -> 1.02 | I41: =C41/1000/2*I$36 -> 0.28 | J41: =PI()*(I41*I41)*H41*1000 -> 251.22688 | K41: =PI()*I41*2*H41+PI()*I41^2*2 -> 2.2870795 | L41: =K41/B41*1000 -> 15.247196
B42: 200 | C42: 560 | D42: 1370 | E42: 41 | F42: 4 | G42: 470 | H42: =D42/1000*H$36 -> 1.37 | I42: =C42/1000/2*I$36 -> 0.28 | J42: =PI()*(I42*I42)*H42*1000 -> 337.43218 | K42: =PI()*I42*2*H42+PI()*I42^2*2 -> 2.9028316 | L42: =K42/B42*1000 -> 14.514158
B43: 250 | C43: 560 | D43: 1975 | E43: 49 | F43: 4 | G43: 470 | H43: =D43/1000*H$36 -> 1.975 | I43: =C43/1000/2*I$36 -> 0.28 | J43: =PI()*(I43*I43)*H43*1000 -> 486.44421 | K43: =PI()*I43*2*H43+PI()*I43^2*2 -> 3.9672032 | L43: =K43/B43*1000 -> 15.868813
B44: Water usage
B45: http://timetable.cput.ac.za/_other_web_files/_cue/DUE/1998/PDF/46%20Breakspear%20D.pdf
B55: http://active.cput.ac.za/energy/past_papers/DUE/1995/PDF/26%20Uken%20EA.pdf
